Package: methylPipe Version: 1.41.0 Command: /home/biocbuild/bbs-3.21-bioc/R/bin/R CMD check --install=check:methylPipe.install-out.txt --library=/home/biocbuild/bbs-3.21-bioc/R/site-library --timings methylPipe_1.41.0.tar.gz StartedAt: 2025-02-10 00:03:07 -0500 (Mon, 10 Feb 2025) EndedAt: 2025-02-10 00:12:45 -0500 (Mon, 10 Feb 2025) EllapsedTime: 577.7 seconds RetCode: 0 Status: WARNINGS CheckDir: methylPipe.Rcheck Warnings: 2