Package: methylPipe Version: 1.41.0 Command: rm -rf methylPipe.buildbin-libdir && mkdir methylPipe.buildbin-libdir && E:\biocbuild\bbs-3.21-bioc\R\bin\R.exe CMD INSTALL --build --library=methylPipe.buildbin-libdir methylPipe_1.41.0.tar.gz StartedAt: 2025-02-10 08:07:41 -0500 (Mon, 10 Feb 2025) EndedAt: 2025-02-10 08:09:29 -0500 (Mon, 10 Feb 2025) EllapsedTime: 107.7 seconds RetCode: 0 Status: OK PackageFile: methylPipe_1.41.0.zip PackageFileSize: 1.479 MiB