Package: methylPipe Version: 1.41.0 Command: chmod a+r methylPipe -R && E:\biocbuild\bbs-3.21-bioc\R\bin\R.exe CMD build --keep-empty-dirs --no-resave-data methylPipe StartedAt: 2025-02-09 19:50:38 -0500 (Sun, 09 Feb 2025) EndedAt: 2025-02-09 19:54:05 -0500 (Sun, 09 Feb 2025) EllapsedTime: 207.0 seconds RetCode: 0 Status: OK PackageFile: methylPipe_1.41.0.tar.gz PackageFileSize: 784.4 KiB