Package: methylPipe Version: 1.41.0 Command: E:\biocbuild\bbs-3.21-bioc\R\bin\R.exe CMD check --no-multiarch --install=check:methylPipe.install-out.txt --library=E:\biocbuild\bbs-3.21-bioc\R\library --no-vignettes --timings methylPipe_1.41.0.tar.gz StartedAt: 2025-02-10 02:49:46 -0500 (Mon, 10 Feb 2025) EndedAt: 2025-02-10 02:58:40 -0500 (Mon, 10 Feb 2025) EllapsedTime: 534.5 seconds RetCode: 0 Status: WARNINGS CheckDir: methylPipe.Rcheck Warnings: 2