Package: methylSig Version: 1.19.0 Command: /Library/Frameworks/R.framework/Resources/bin/R CMD build --keep-empty-dirs --no-resave-data methylSig StartedAt: 2025-02-03 17:31:07 -0500 (Mon, 03 Feb 2025) EndedAt: 2025-02-03 17:31:47 -0500 (Mon, 03 Feb 2025) EllapsedTime: 39.5 seconds RetCode: 0 Status: OK PackageFile: methylSig_1.19.0.tar.gz PackageFileSize: 492.8 KiB