Package: methylSig Version: 1.19.0 Command: /Library/Frameworks/R.framework/Resources/bin/R CMD check --install=check:methylSig.install-out.txt --library=/Library/Frameworks/R.framework/Resources/library --no-vignettes --timings methylSig_1.19.0.tar.gz StartedAt: 2025-02-03 20:41:01 -0500 (Mon, 03 Feb 2025) EndedAt: 2025-02-03 20:43:07 -0500 (Mon, 03 Feb 2025) EllapsedTime: 126.5 seconds RetCode: 0 Status: OK CheckDir: methylSig.Rcheck Warnings: 0