Package: methylSig Version: 1.19.0 Command: /Library/Frameworks/R.framework/Resources/bin/R CMD INSTALL methylSig StartedAt: 2025-02-09 15:11:13 -0500 (Sun, 09 Feb 2025) EndedAt: 2025-02-09 15:11:35 -0500 (Sun, 09 Feb 2025) EllapsedTime: 21.6 seconds RetCode: 0 Status: OK