Package: methylSig Version: 1.19.0 Command: /home/biocbuild/R/R/bin/R CMD build --keep-empty-dirs --no-resave-data methylSig StartedAt: 2025-01-29 00:16:08 -0000 (Wed, 29 Jan 2025) EndedAt: 2025-01-29 00:18:04 -0000 (Wed, 29 Jan 2025) EllapsedTime: 116.0 seconds RetCode: 0 Status: OK PackageFile: methylSig_1.19.0.tar.gz PackageFileSize: 541.4 KiB