Package: methylSig Version: 1.19.0 Command: /home/biocbuild/R/R/bin/R CMD INSTALL methylSig StartedAt: 2025-01-29 19:57:12 -0000 (Wed, 29 Jan 2025) EndedAt: 2025-01-29 19:58:24 -0000 (Wed, 29 Jan 2025) EllapsedTime: 72.5 seconds RetCode: 0 Status: OK