Package: methylSig Version: 1.19.0 Command: rm -rf methylSig.buildbin-libdir && mkdir methylSig.buildbin-libdir && /Users/biocbuild/BBS/utils/build-universal.sh methylSig_1.19.0.tar.gz /Library/Frameworks/R.framework/Resources/bin/R methylSig.buildbin-libdir StartedAt: 2025-02-04 00:42:38 -0500 (Tue, 04 Feb 2025) EndedAt: 2025-02-04 00:43:47 -0500 (Tue, 04 Feb 2025) EllapsedTime: 69.2 seconds RetCode: 0 Status: OK PackageFile: methylSig_1.19.0.tgz PackageFileSize: 582.4 KiB