Package: methylSig Version: 1.19.0 Command: /Library/Frameworks/R.framework/Resources/bin/R CMD build --keep-empty-dirs --no-resave-data methylSig StartedAt: 2025-02-09 17:24:47 -0500 (Sun, 09 Feb 2025) EndedAt: 2025-02-09 17:26:27 -0500 (Sun, 09 Feb 2025) EllapsedTime: 100.3 seconds RetCode: 0 Status: OK PackageFile: methylSig_1.19.0.tar.gz PackageFileSize: 492.7 KiB