Package: methylSig Version: 1.19.0 Command: /Library/Frameworks/R.framework/Resources/bin/R CMD check --install=check:methylSig.install-out.txt --library=/Library/Frameworks/R.framework/Resources/library --no-vignettes --timings methylSig_1.19.0.tar.gz StartedAt: 2025-02-09 21:51:32 -0500 (Sun, 09 Feb 2025) EndedAt: 2025-02-09 21:57:39 -0500 (Sun, 09 Feb 2025) EllapsedTime: 366.9 seconds RetCode: 0 Status: OK CheckDir: methylSig.Rcheck Warnings: 0