Package: methylSig Version: 1.19.0 Command: /Library/Frameworks/R.framework/Resources/bin/R CMD INSTALL methylSig StartedAt: 2025-02-09 15:21:53 -0500 (Sun, 09 Feb 2025) EndedAt: 2025-02-09 15:23:03 -0500 (Sun, 09 Feb 2025) EllapsedTime: 69.4 seconds RetCode: 0 Status: OK