Package: methylSig Version: 1.19.0 Command: /home/biocbuild/bbs-3.21-bioc/R/bin/R CMD build --keep-empty-dirs --no-resave-data methylSig StartedAt: 2025-02-09 18:05:10 -0500 (Sun, 09 Feb 2025) EndedAt: 2025-02-09 18:06:37 -0500 (Sun, 09 Feb 2025) EllapsedTime: 87.1 seconds RetCode: 0 Status: OK PackageFile: methylSig_1.19.0.tar.gz PackageFileSize: 492.9 KiB