Package: methylSig Version: 1.19.0 Command: /home/biocbuild/bbs-3.21-bioc/R/bin/R CMD INSTALL methylSig StartedAt: 2025-02-09 15:36:48 -0500 (Sun, 09 Feb 2025) EndedAt: 2025-02-09 15:37:39 -0500 (Sun, 09 Feb 2025) EllapsedTime: 51.1 seconds RetCode: 0 Status: OK