Package: methylSig Version: 1.19.0 Command: rm -rf methylSig.buildbin-libdir && mkdir methylSig.buildbin-libdir && E:\biocbuild\bbs-3.21-bioc\R\bin\R.exe CMD INSTALL --build --library=methylSig.buildbin-libdir methylSig_1.19.0.tar.gz StartedAt: 2025-02-10 08:07:53 -0500 (Mon, 10 Feb 2025) EndedAt: 2025-02-10 08:09:02 -0500 (Mon, 10 Feb 2025) EllapsedTime: 69.3 seconds RetCode: 0 Status: OK PackageFile: methylSig_1.19.0.zip PackageFileSize: 590.4 KiB