Package: methylSig Version: 1.19.0 Command: chmod a+r methylSig -R && E:\biocbuild\bbs-3.21-bioc\R\bin\R.exe CMD build --keep-empty-dirs --no-resave-data methylSig StartedAt: 2025-02-09 19:51:14 -0500 (Sun, 09 Feb 2025) EndedAt: 2025-02-09 19:54:11 -0500 (Sun, 09 Feb 2025) EllapsedTime: 177.0 seconds RetCode: 0 Status: OK PackageFile: methylSig_1.19.0.tar.gz PackageFileSize: 493.3 KiB