Package: methylclock Version: 1.13.0 Command: /Library/Frameworks/R.framework/Resources/bin/R CMD build --keep-empty-dirs --no-resave-data methylclock StartedAt: 2025-02-12 16:53:13 -0500 (Wed, 12 Feb 2025) EndedAt: 2025-02-12 16:58:25 -0500 (Wed, 12 Feb 2025) EllapsedTime: 311.4 seconds RetCode: 0 Status: OK PackageFile: methylclock_1.13.0.tar.gz PackageFileSize: 960.4 KiB