Package: methylclock Version: 1.13.0 Command: /Library/Frameworks/R.framework/Resources/bin/R CMD check --install=check:methylclock.install-out.txt --library=/Library/Frameworks/R.framework/Resources/library --no-vignettes --timings methylclock_1.13.0.tar.gz StartedAt: 2025-02-09 20:02:25 -0500 (Sun, 09 Feb 2025) EndedAt: 2025-02-09 20:06:19 -0500 (Sun, 09 Feb 2025) EllapsedTime: 234.6 seconds RetCode: 0 Status: OK CheckDir: methylclock.Rcheck Warnings: 0