Package: methylclock Version: 1.13.0 Command: /home/biocbuild/R/R/bin/R CMD build --keep-empty-dirs --no-resave-data methylclock StartedAt: 2025-01-29 00:12:07 -0000 (Wed, 29 Jan 2025) EndedAt: 2025-01-29 00:31:05 -0000 (Wed, 29 Jan 2025) EllapsedTime: 1137.5 seconds RetCode: 0 Status: OK PackageFile: methylclock_1.13.0.tar.gz PackageFileSize: 774.5 KiB