Package: methylclock Version: 1.13.0 Command: /home/biocbuild/R/R/bin/R CMD check --install=check:methylclock.install-out.txt --library=/home/biocbuild/R/R/site-library --no-vignettes --timings methylclock_1.13.0.tar.gz StartedAt: 2025-01-28 12:19:10 -0000 (Tue, 28 Jan 2025) EndedAt: 2025-01-28 12:36:47 -0000 (Tue, 28 Jan 2025) EllapsedTime: 1057.2 seconds RetCode: 0 Status: WARNINGS CheckDir: methylclock.Rcheck Warnings: 5