Package: methylclock Version: 1.13.0 Command: /Library/Frameworks/R.framework/Resources/bin/R CMD build --keep-empty-dirs --no-resave-data methylclock StartedAt: 2025-02-09 17:23:42 -0500 (Sun, 09 Feb 2025) EndedAt: 2025-02-09 17:35:45 -0500 (Sun, 09 Feb 2025) EllapsedTime: 722.6 seconds RetCode: 0 Status: OK PackageFile: methylclock_1.13.0.tar.gz PackageFileSize: 960.1 KiB