Package: methylclock Version: 1.13.0 Command: E:\biocbuild\bbs-3.21-bioc\R\bin\R.exe CMD check --no-multiarch --install=check:methylclock.install-out.txt --library=E:\biocbuild\bbs-3.21-bioc\R\library --no-vignettes --timings methylclock_1.13.0.tar.gz StartedAt: 2025-02-10 02:48:29 -0500 (Mon, 10 Feb 2025) EndedAt: 2025-02-10 03:00:30 -0500 (Mon, 10 Feb 2025) EllapsedTime: 721.5 seconds RetCode: 0 Status: OK CheckDir: methylclock.Rcheck Warnings: 0