Package: methylscaper Version: 1.15.0 Command: rm -rf methylscaper.buildbin-libdir && mkdir methylscaper.buildbin-libdir && /Users/biocbuild/BBS/utils/build-universal.sh methylscaper_1.15.0.tar.gz /Library/Frameworks/R.framework/Resources/bin/R methylscaper.buildbin-libdir StartedAt: 2025-02-09 22:20:49 -0500 (Sun, 09 Feb 2025) EndedAt: 2025-02-09 22:21:02 -0500 (Sun, 09 Feb 2025) EllapsedTime: 13.3 seconds RetCode: 0 Status: OK PackageFile: methylscaper_1.15.0.tgz PackageFileSize: 3.201 MiB