Package: methylscaper Version: 1.15.0 Command: /home/biocbuild/R/R/bin/R CMD build --keep-empty-dirs --no-resave-data methylscaper StartedAt: 2025-01-29 00:15:15 -0000 (Wed, 29 Jan 2025) EndedAt: 2025-01-29 00:18:27 -0000 (Wed, 29 Jan 2025) EllapsedTime: 192.1 seconds RetCode: 0 Status: OK PackageFile: methylscaper_1.15.0.tar.gz PackageFileSize: 3.866 MiB