Package: methylscaper Version: 1.15.0 Command: /Library/Frameworks/R.framework/Resources/bin/R CMD check --install=check:methylscaper.install-out.txt --library=/Library/Frameworks/R.framework/Resources/library --no-vignettes --timings methylscaper_1.15.0.tar.gz StartedAt: 2025-02-09 21:51:03 -0500 (Sun, 09 Feb 2025) EndedAt: 2025-02-09 21:54:41 -0500 (Sun, 09 Feb 2025) EllapsedTime: 218.0 seconds RetCode: 0 Status: OK CheckDir: methylscaper.Rcheck Warnings: 0