Package: methylscaper Version: 1.15.0 Command: /home/biocbuild/bbs-3.21-bioc/R/bin/R CMD INSTALL methylscaper StartedAt: 2025-02-09 15:50:04 -0500 (Sun, 09 Feb 2025) EndedAt: 2025-02-09 15:50:33 -0500 (Sun, 09 Feb 2025) EllapsedTime: 28.4 seconds RetCode: 0 Status: OK