Package: methylumi Version: 2.53.0 Command: rm -rf methylumi.buildbin-libdir && mkdir methylumi.buildbin-libdir && /Users/biocbuild/BBS/utils/build-universal.sh methylumi_2.53.0.tar.gz /Library/Frameworks/R.framework/Resources/bin/R methylumi.buildbin-libdir StartedAt: 2025-02-04 22:22:41 -0500 (Tue, 04 Feb 2025) EndedAt: 2025-02-04 22:23:06 -0500 (Tue, 04 Feb 2025) EllapsedTime: 25.5 seconds RetCode: 0 Status: OK PackageFile: methylumi_2.53.0.tgz PackageFileSize: 8.411 MiB