Package: methylumi Version: 2.53.0 Command: /Library/Frameworks/R.framework/Resources/bin/R CMD build --keep-empty-dirs --no-resave-data methylumi StartedAt: 2025-02-04 16:55:02 -0500 (Tue, 04 Feb 2025) EndedAt: 2025-02-04 16:56:41 -0500 (Tue, 04 Feb 2025) EllapsedTime: 99.1 seconds RetCode: 0 Status: OK PackageFile: methylumi_2.53.0.tar.gz PackageFileSize: 7.342 MiB