Package: methylumi Version: 2.53.0 Command: /Library/Frameworks/R.framework/Resources/bin/R CMD check --install=check:methylumi.install-out.txt --library=/Library/Frameworks/R.framework/Resources/library --no-vignettes --timings methylumi_2.53.0.tar.gz StartedAt: 2025-02-04 20:06:14 -0500 (Tue, 04 Feb 2025) EndedAt: 2025-02-04 20:08:30 -0500 (Tue, 04 Feb 2025) EllapsedTime: 136.6 seconds RetCode: 0 Status: OK CheckDir: methylumi.Rcheck Warnings: 0