Package: methylumi Version: 2.53.0 Command: /Library/Frameworks/R.framework/Resources/bin/R CMD INSTALL methylumi StartedAt: 2025-02-12 15:42:35 -0500 (Wed, 12 Feb 2025) EndedAt: 2025-02-12 15:43:54 -0500 (Wed, 12 Feb 2025) EllapsedTime: 79.1 seconds RetCode: 0 Status: OK