Package: methylumi Version: 2.53.0 Command: /home/biocbuild/bbs-3.21-bioc/R/bin/R CMD build --keep-empty-dirs --no-resave-data methylumi StartedAt: 2025-02-04 18:02:58 -0500 (Tue, 04 Feb 2025) EndedAt: 2025-02-04 18:06:29 -0500 (Tue, 04 Feb 2025) EllapsedTime: 211.2 seconds RetCode: 0 Status: OK PackageFile: methylumi_2.53.0.tar.gz PackageFileSize: 7.342 MiB