Package: methylumi Version: 2.53.0 Command: /home/biocbuild/bbs-3.21-bioc/R/bin/R CMD check --install=check:methylumi.install-out.txt --library=/home/biocbuild/bbs-3.21-bioc/R/site-library --timings methylumi_2.53.0.tar.gz StartedAt: 2025-02-05 00:07:14 -0500 (Wed, 05 Feb 2025) EndedAt: 2025-02-05 00:18:59 -0500 (Wed, 05 Feb 2025) EllapsedTime: 704.6 seconds RetCode: 0 Status: OK CheckDir: methylumi.Rcheck Warnings: 0