Package: methylumi Version: 2.53.0 Command: /home/biocbuild/bbs-3.21-bioc/R/bin/R CMD INSTALL methylumi StartedAt: 2025-02-09 15:58:04 -0500 (Sun, 09 Feb 2025) EndedAt: 2025-02-09 15:59:04 -0500 (Sun, 09 Feb 2025) EllapsedTime: 59.8 seconds RetCode: 0 Status: OK