Package: methylumi Version: 2.53.0 Command: chmod a+r methylumi -R && E:\biocbuild\bbs-3.21-bioc\R\bin\R.exe CMD build --keep-empty-dirs --no-resave-data methylumi StartedAt: 2025-02-09 19:51:38 -0500 (Sun, 09 Feb 2025) EndedAt: 2025-02-09 19:57:17 -0500 (Sun, 09 Feb 2025) EllapsedTime: 339.5 seconds RetCode: 0 Status: OK PackageFile: methylumi_2.53.0.tar.gz PackageFileSize: 7.331 MiB