Package: methylumi Version: 2.53.0 Command: E:\biocbuild\bbs-3.21-bioc\R\bin\R.exe CMD INSTALL methylumi StartedAt: 2025-02-09 16:58:47 -0500 (Sun, 09 Feb 2025) EndedAt: 2025-02-09 17:00:31 -0500 (Sun, 09 Feb 2025) EllapsedTime: 104.2 seconds RetCode: 0 Status: OK