Package: mfa Version: 1.29.0 Command: /home/biocbuild/R/R/bin/R CMD build --keep-empty-dirs --no-resave-data mfa StartedAt: 2025-01-29 00:17:59 -0000 (Wed, 29 Jan 2025) EndedAt: 2025-01-29 00:18:46 -0000 (Wed, 29 Jan 2025) EllapsedTime: 47.0 seconds RetCode: 0 Status: OK PackageFile: mfa_1.29.0.tar.gz PackageFileSize: 514.7 KiB