Package: mfa Version: 1.29.0 Command: rm -rf mfa.buildbin-libdir && mkdir mfa.buildbin-libdir && /Users/biocbuild/BBS/utils/build-universal.sh mfa_1.29.0.tar.gz /Library/Frameworks/R.framework/Resources/bin/R mfa.buildbin-libdir StartedAt: 2025-02-10 01:02:21 -0500 (Mon, 10 Feb 2025) EndedAt: 2025-02-10 01:02:45 -0500 (Mon, 10 Feb 2025) EllapsedTime: 24.1 seconds RetCode: 0 Status: OK PackageFile: mfa_1.29.0.tgz PackageFileSize: 665.6 KiB