Package: mfa Version: 1.29.0 Command: /Library/Frameworks/R.framework/Resources/bin/R CMD build --keep-empty-dirs --no-resave-data mfa StartedAt: 2025-02-09 17:25:29 -0500 (Sun, 09 Feb 2025) EndedAt: 2025-02-09 17:26:06 -0500 (Sun, 09 Feb 2025) EllapsedTime: 36.5 seconds RetCode: 0 Status: OK PackageFile: mfa_1.29.0.tar.gz PackageFileSize: 557.8 KiB