Package: mfa Version: 1.29.0 Command: /Library/Frameworks/R.framework/Resources/bin/R CMD INSTALL mfa StartedAt: 2025-02-12 15:31:53 -0500 (Wed, 12 Feb 2025) EndedAt: 2025-02-12 15:32:13 -0500 (Wed, 12 Feb 2025) EllapsedTime: 20.0 seconds RetCode: 0 Status: OK