Package: mgsa Version: 1.55.0 Command: rm -rf mgsa.buildbin-libdir && mkdir mgsa.buildbin-libdir && E:\biocbuild\bbs-3.21-bioc\R\bin\R.exe CMD INSTALL --build --library=mgsa.buildbin-libdir mgsa_1.55.0.tar.gz StartedAt: 2025-02-10 08:08:21 -0500 (Mon, 10 Feb 2025) EndedAt: 2025-02-10 08:08:55 -0500 (Mon, 10 Feb 2025) EllapsedTime: 34.2 seconds RetCode: 0 Status: OK PackageFile: mgsa_1.55.0.zip PackageFileSize: 455.7 KiB