Package: mgsa Version: 1.55.0 Command: chmod a+r mgsa -R && E:\biocbuild\bbs-3.21-bioc\R\bin\R.exe CMD build --keep-empty-dirs --no-resave-data mgsa StartedAt: 2025-02-09 19:53:06 -0500 (Sun, 09 Feb 2025) EndedAt: 2025-02-09 19:53:46 -0500 (Sun, 09 Feb 2025) EllapsedTime: 39.8 seconds RetCode: 0 Status: OK PackageFile: mgsa_1.55.0.tar.gz PackageFileSize: 301.5 KiB