Package: mgsa Version: 1.55.0 Command: E:\biocbuild\bbs-3.21-bioc\R\bin\R.exe CMD check --no-multiarch --install=check:mgsa.install-out.txt --library=E:\biocbuild\bbs-3.21-bioc\R\library --no-vignettes --timings mgsa_1.55.0.tar.gz StartedAt: 2025-02-10 02:53:11 -0500 (Mon, 10 Feb 2025) EndedAt: 2025-02-10 02:54:08 -0500 (Mon, 10 Feb 2025) EllapsedTime: 57.0 seconds RetCode: 0 Status: WARNINGS CheckDir: mgsa.Rcheck Warnings: 1