Package: miQC Version: 1.15.0 Command: /Library/Frameworks/R.framework/Resources/bin/R CMD build --keep-empty-dirs --no-resave-data miQC StartedAt: 2025-02-09 16:57:15 -0500 (Sun, 09 Feb 2025) EndedAt: 2025-02-09 16:57:46 -0500 (Sun, 09 Feb 2025) EllapsedTime: 31.4 seconds RetCode: 0 Status: OK PackageFile: miQC_1.15.0.tar.gz PackageFileSize: 3.08 MiB