Package: miQC Version: 1.15.0 Command: /home/biocbuild/R/R/bin/R CMD check --install=check:miQC.install-out.txt --library=/home/biocbuild/R/R/site-library --no-vignettes --timings miQC_1.15.0.tar.gz StartedAt: 2025-01-28 12:30:37 -0000 (Tue, 28 Jan 2025) EndedAt: 2025-01-28 12:34:58 -0000 (Tue, 28 Jan 2025) EllapsedTime: 260.3 seconds RetCode: 0 Status: OK CheckDir: miQC.Rcheck Warnings: 0