Package: miQC Version: 1.15.0 Command: rm -rf miQC.buildbin-libdir && mkdir miQC.buildbin-libdir && /Users/biocbuild/BBS/utils/build-universal.sh miQC_1.15.0.tar.gz /Library/Frameworks/R.framework/Resources/bin/R miQC.buildbin-libdir StartedAt: 2025-02-05 00:49:10 -0500 (Wed, 05 Feb 2025) EndedAt: 2025-02-05 00:49:46 -0500 (Wed, 05 Feb 2025) EllapsedTime: 35.8 seconds RetCode: 0 Status: OK PackageFile: miQC_1.15.0.tgz PackageFileSize: 3.103 MiB