Package: miQC Version: 1.15.0 Command: /Library/Frameworks/R.framework/Resources/bin/R CMD build --keep-empty-dirs --no-resave-data miQC StartedAt: 2025-02-04 17:22:34 -0500 (Tue, 04 Feb 2025) EndedAt: 2025-02-04 17:24:02 -0500 (Tue, 04 Feb 2025) EllapsedTime: 88.1 seconds RetCode: 0 Status: OK PackageFile: miQC_1.15.0.tar.gz PackageFileSize: 3.079 MiB