Package: miQC Version: 1.15.0 Command: /Library/Frameworks/R.framework/Resources/bin/R CMD check --install=check:miQC.install-out.txt --library=/Library/Frameworks/R.framework/Resources/library --no-vignettes --timings miQC_1.15.0.tar.gz StartedAt: 2025-02-04 21:41:07 -0500 (Tue, 04 Feb 2025) EndedAt: 2025-02-04 21:44:48 -0500 (Tue, 04 Feb 2025) EllapsedTime: 220.6 seconds RetCode: 0 Status: OK CheckDir: miQC.Rcheck Warnings: 0