Package: miQC Version: 1.15.0 Command: /home/biocbuild/bbs-3.21-bioc/R/bin/R CMD build --keep-empty-dirs --no-resave-data miQC StartedAt: 2025-02-09 18:08:20 -0500 (Sun, 09 Feb 2025) EndedAt: 2025-02-09 18:09:37 -0500 (Sun, 09 Feb 2025) EllapsedTime: 77.1 seconds RetCode: 0 Status: OK PackageFile: miQC_1.15.0.tar.gz PackageFileSize: 2.826 MiB