Package: miQC Version: 1.15.0 Command: /home/biocbuild/bbs-3.21-bioc/R/bin/R CMD check --install=check:miQC.install-out.txt --library=/home/biocbuild/bbs-3.21-bioc/R/site-library --timings miQC_1.15.0.tar.gz StartedAt: 2025-02-10 00:11:13 -0500 (Mon, 10 Feb 2025) EndedAt: 2025-02-10 00:15:29 -0500 (Mon, 10 Feb 2025) EllapsedTime: 256.3 seconds RetCode: 0 Status: OK CheckDir: miQC.Rcheck Warnings: 0